BEGIN:VCALENDAR
VERSION:2.0
PRODID:-//O.W.L. Volunteer Fire Department - ECPv6.15.18//NONSGML v1.0//EN
CALSCALE:GREGORIAN
METHOD:PUBLISH
X-ORIGINAL-URL:https://owlvfd.org
X-WR-CALDESC:Events for O.W.L. Volunteer Fire Department
REFRESH-INTERVAL;VALUE=DURATION:PT1H
X-Robots-Tag:noindex
X-PUBLISHED-TTL:PT1H
BEGIN:VTIMEZONE
TZID:America/New_York
BEGIN:DAYLIGHT
TZOFFSETFROM:-0500
TZOFFSETTO:-0400
TZNAME:EDT
DTSTART:20180311T070000
END:DAYLIGHT
BEGIN:STANDARD
TZOFFSETFROM:-0400
TZOFFSETTO:-0500
TZNAME:EST
DTSTART:20181104T060000
END:STANDARD
BEGIN:DAYLIGHT
TZOFFSETFROM:-0500
TZOFFSETTO:-0400
TZNAME:EDT
DTSTART:20190310T070000
END:DAYLIGHT
BEGIN:STANDARD
TZOFFSETFROM:-0400
TZOFFSETTO:-0500
TZNAME:EST
DTSTART:20191103T060000
END:STANDARD
BEGIN:DAYLIGHT
TZOFFSETFROM:-0500
TZOFFSETTO:-0400
TZNAME:EDT
DTSTART:20200308T070000
END:DAYLIGHT
BEGIN:STANDARD
TZOFFSETFROM:-0400
TZOFFSETTO:-0500
TZNAME:EST
DTSTART:20201101T060000
END:STANDARD
BEGIN:DAYLIGHT
TZOFFSETFROM:-0500
TZOFFSETTO:-0400
TZNAME:EDT
DTSTART:20210314T070000
END:DAYLIGHT
BEGIN:STANDARD
TZOFFSETFROM:-0400
TZOFFSETTO:-0500
TZNAME:EST
DTSTART:20211107T060000
END:STANDARD
BEGIN:DAYLIGHT
TZOFFSETFROM:-0500
TZOFFSETTO:-0400
TZNAME:EDT
DTSTART:20220313T070000
END:DAYLIGHT
BEGIN:STANDARD
TZOFFSETFROM:-0400
TZOFFSETTO:-0500
TZNAME:EST
DTSTART:20221106T060000
END:STANDARD
BEGIN:DAYLIGHT
TZOFFSETFROM:-0500
TZOFFSETTO:-0400
TZNAME:EDT
DTSTART:20230312T070000
END:DAYLIGHT
BEGIN:STANDARD
TZOFFSETFROM:-0400
TZOFFSETTO:-0500
TZNAME:EST
DTSTART:20231105T060000
END:STANDARD
END:VTIMEZONE
BEGIN:VEVENT
DTSTART;TZID=America/New_York:20220401T190000
DTEND;TZID=America/New_York:20220401T210000
DTSTAMP:20260424T013537
CREATED:20200307T043801Z
LAST-MODIFIED:20220307T132013Z
UID:1896-1648839600-1648846800@owlvfd.org
SUMMARY:Monthly Membership Meeting
DESCRIPTION:OWL Company meetings occur on the first Friday of every month at Station 2. Station 2 is located at 1306 F Street in Woodbridge\, VA. Perspective members (Fire\, EMS\, junior\, and Administrative) are asked to attend the new member meeting at 7:30 p.m. The general membership meeting starts at 8:00 p.m. Dinner is served before all company meetings. For additional information\, call station 2 at (703) 491-5173.
URL:https://owlvfd.org/event/monthly-membership-meeting-2022-04-01/
LOCATION:Station 2\, 1306 F Street\, Woodbridge\, VA\, 22191\, United States
CATEGORIES:Membership Meeting
ATTACH;FMTTYPE=image/jpeg:https://owlvfd.org/wp-content/uploads/2020/01/EMS-6.jpg
END:VEVENT
BEGIN:VEVENT
DTSTART;TZID=America/New_York:20220204T190000
DTEND;TZID=America/New_York:20220204T210000
DTSTAMP:20260424T013537
CREATED:20200307T043801Z
LAST-MODIFIED:20220112T211426Z
UID:1631-1644001200-1644008400@owlvfd.org
SUMMARY:Monthly Membership Meeting
DESCRIPTION:OWL Company meetings occur on the first Friday of every month at Station 2. Station 2 is located at 1306 F Street in Woodbridge\, VA. Perspective members (Fire\, EMS\, junior\, and Administrative) are asked to attend the new member meeting at 7:30 p.m. The general membership meeting starts at 8:00 p.m. Dinner is served before all company meetings. You can call station 2 at (703) 491-5173 for additional information.
URL:https://owlvfd.org/event/monthly-membership-meeting-2022-02-04/
LOCATION:Station 2\, 1306 F Street\, Woodbridge\, VA\, 22191\, United States
CATEGORIES:Membership Meeting
ATTACH;FMTTYPE=image/jpeg:https://owlvfd.org/wp-content/uploads/2020/01/EMS-6.jpg
END:VEVENT
BEGIN:VEVENT
DTSTART;TZID=America/New_York:20201106T190000
DTEND;TZID=America/New_York:20201106T210000
DTSTAMP:20260424T013537
CREATED:20200307T043801Z
LAST-MODIFIED:20201113T012313Z
UID:1616-1604689200-1604696400@owlvfd.org
SUMMARY:November - Monthly Membership Meeting
DESCRIPTION:OWL Company meetings occur on the first Friday of every month at Station 2. Station 2 is located at 1306 F Street in Woodbridge\, VA. Perspective members (Fire\, EMS\, junior\, and Administrative) are asked to attend the new member meeting at 7:30 p.m. The general membership meeting starts at 8:00 p.m. Dinner is served before all company meetings. You can call station 2 at (703) 491-5173 for additional information.
URL:https://owlvfd.org/event/monthly-membership-meeting-2020-11-06/
LOCATION:Station 2\, 1306 F Street\, Woodbridge\, VA\, 22191\, United States
CATEGORIES:Membership Meeting
ATTACH;FMTTYPE=image/jpeg:https://owlvfd.org/wp-content/uploads/2020/01/EMS-6.jpg
END:VEVENT
BEGIN:VEVENT
DTSTART;TZID=America/New_York:20201002T190000
DTEND;TZID=America/New_York:20201002T210000
DTSTAMP:20260424T013537
CREATED:20200307T043801Z
LAST-MODIFIED:20201003T003154Z
UID:1615-1601665200-1601672400@owlvfd.org
SUMMARY:October - Monthly Membership Meeting
DESCRIPTION:OWL Company meetings occur on the first Friday of every month at Station 2. Station 2 is located at 1306 F Street in Woodbridge\, VA. Perspective members (Fire\, EMS\, junior\, and Administrative) are asked to attend the new member meeting at 7:30 p.m. The general membership meeting starts at 8:00 p.m. Dinner is served before all company meetings. You can call station 2 at (703) 491-5173 for additional information.
URL:https://owlvfd.org/event/monthly-membership-meeting-2020-10-02/
LOCATION:Station 2\, 1306 F Street\, Woodbridge\, VA\, 22191\, United States
CATEGORIES:Membership Meeting
ATTACH;FMTTYPE=image/jpeg:https://owlvfd.org/wp-content/uploads/2019/02/2019FeburaryMeeting.jpg
END:VEVENT
BEGIN:VEVENT
DTSTART;TZID=America/New_York:20200807T190000
DTEND;TZID=America/New_York:20200807T210000
DTSTAMP:20260424T013537
CREATED:20200307T043801Z
LAST-MODIFIED:20200905T001345Z
UID:1613-1596826800-1596834000@owlvfd.org
SUMMARY:August - Monthly Membership Meeting
DESCRIPTION:OWL Company meetings occur on the first Friday of every month at Station 2. Station 2 is located at 1306 F Street in Woodbridge\, VA. Perspective members (Fire\, EMS\, junior\, and Administrative) are asked to attend the new member meeting at 7:30 p.m. The general membership meeting starts at 8:00 p.m. Dinner is served before all company meetings. You can call station 2 at (703) 491-5173 for additional information.
URL:https://owlvfd.org/event/monthly-membership-meeting-2020-08-07/
LOCATION:Station 2\, 1306 F Street\, Woodbridge\, VA\, 22191\, United States
CATEGORIES:Membership Meeting
ATTACH;FMTTYPE=image/jpeg:https://owlvfd.org/wp-content/uploads/2020/01/EMS-6.jpg
END:VEVENT
BEGIN:VEVENT
DTSTART;TZID=America/New_York:20200403T190000
DTEND;TZID=America/New_York:20200403T210000
DTSTAMP:20260424T013537
CREATED:20200307T043801Z
LAST-MODIFIED:20200804T230946Z
UID:1609-1585940400-1585947600@owlvfd.org
SUMMARY:Monthly Membership Meeting (Canceled)
DESCRIPTION:OWL Company meetings occur on the first Friday of every month at Station 2. Station 2 is located at 1306 F Street in Woodbridge\, VA. Perspective members (Fire\, EMS\, junior\, and Administrative) are asked to attend the new member meeting at 7:30 p.m. The general membership meeting starts at 8:00 p.m. Dinner is served before all company meetings. You can call station 2 at (703) 491-5173 for additional information.
URL:https://owlvfd.org/event/monthly-membership-meeting-2020-04-03/
LOCATION:Station 2\, 1306 F Street\, Woodbridge\, VA\, 22191\, United States
CATEGORIES:Membership Meeting
ATTACH;FMTTYPE=image/jpeg:https://owlvfd.org/wp-content/uploads/2019/01/dsc_0292.jpg
END:VEVENT
BEGIN:VEVENT
DTSTART;TZID=America/New_York:20200307T190000
DTEND;TZID=America/New_York:20200307T210000
DTSTAMP:20260424T013537
CREATED:20200208T001751Z
LAST-MODIFIED:20200208T002110Z
UID:1571-1583607600-1583614800@owlvfd.org
SUMMARY:Company Meeting (March)
DESCRIPTION:OWL Company meetings occur the first Friday of every month at Station 2. Station 2 is located at 1306 F Street in Woodbridge\, VA. Perspective members (Fire\, EMS\, junior\, and Administrative) are asked to attend the new member meeting at 7:30 p.m. The general membership meeting starts at 8:00 p.m. Dinner is served before all company meetings. You can call station 2 at (703) 491-5173 for additional information.
URL:https://owlvfd.org/event/company-meeting-march-2/
CATEGORIES:Meetings,Membership Meeting
ATTACH;FMTTYPE=image/jpeg:https://owlvfd.org/wp-content/uploads/2020/01/EMS-7.jpg
END:VEVENT
BEGIN:VEVENT
DTSTART;TZID=America/New_York:20200207T190000
DTEND;TZID=America/New_York:20200207T210000
DTSTAMP:20260424T013537
CREATED:20200112T033934Z
LAST-MODIFIED:20200112T034022Z
UID:1543-1581102000-1581109200@owlvfd.org
SUMMARY:Company Meeting (February)
DESCRIPTION:OWL Company meetings occur the first Friday of every month at Station 2. Station 2 is located at 1306 F Street in Woodbridge\, VA. Perspective members (Fire\, EMS\, junior\, and Administrative) are asked to attend the new member meeting at 7:30 p.m. The general membership meeting starts at 8:00 p.m. Dinner is served before all company meetings. You can call station 2 at (703) 491-5173 for additional information.
URL:https://owlvfd.org/event/company-meeting-february/
CATEGORIES:Meetings,Membership Meeting
ATTACH;FMTTYPE=image/jpeg:https://owlvfd.org/wp-content/uploads/2019/02/StarOfLife.jpg
END:VEVENT
BEGIN:VEVENT
DTSTART;TZID=America/New_York:20200103T190000
DTEND;TZID=America/New_York:20200103T210000
DTSTAMP:20260424T013537
CREATED:20191212T001439Z
LAST-MODIFIED:20191212T001439Z
UID:1520-1578078000-1578085200@owlvfd.org
SUMMARY:Company Meeting (January)
DESCRIPTION:OWL Company meetings occur the first Friday of every month at Station 2. Station 2 is located at 1306 F Street in Woodbridge\, VA. Perspective members (Fire\, EMS\, junior\, and Administrative) are asked to attend the new member meeting at 7:30 p.m. The general membership meeting starts at 8:00 p.m. Dinner is served before all company meetings. You can call station 2 at (703) 491-5173 for additional information.
URL:https://owlvfd.org/event/company-meeting-january/
CATEGORIES:Meetings,Membership Meeting
ATTACH;FMTTYPE=image/jpeg:https://owlvfd.org/wp-content/uploads/2019/02/2019FeburaryMeeting.jpg
END:VEVENT
BEGIN:VEVENT
DTSTART;TZID=America/New_York:20191102T200000
DTEND;TZID=America/New_York:20191102T220000
DTSTAMP:20260424T013537
CREATED:20191018T011826Z
LAST-MODIFIED:20191018T012613Z
UID:1441-1572724800-1572732000@owlvfd.org
SUMMARY:Company Meeting (November)
DESCRIPTION:Looking to do something different to do?  Want a challenging opportunity to grow real skills and serve your community?  Why not stop by and learn what it takes to volunteer with the Occoquan Woodbridge Lorton Volunteer Fire Department?   OWL Company meetings occur the first Friday of every month at Station 2. Station 2 is located at 1306 F Street in Woodbridge\, VA. Perspective members (Fire\, EMS\, junior\, and Administrative) are asked to attend the new member meeting at 7:30 p.m. The general membership meeting starts at 8:00 p.m. Dinner is served before all company meetings. You can call station 2 at (703) 491-5173 for additional information.
URL:https://owlvfd.org/event/company-meeting-november/
CATEGORIES:Meetings,Membership Meeting
ATTACH;FMTTYPE=image/jpeg:https://owlvfd.org/wp-content/uploads/2019/02/Vitals-9.jpg
END:VEVENT
BEGIN:VEVENT
DTSTART;TZID=America/New_York:20190601T190000
DTEND;TZID=America/New_York:20190601T210000
DTSTAMP:20260424T013537
CREATED:20190508T234730Z
LAST-MODIFIED:20190508T234811Z
UID:1222-1559415600-1559422800@owlvfd.org
SUMMARY:Company Meeting (June)
DESCRIPTION:OWL Company meetings occur the first Friday of every month at Station 2. Station 2 is located at 1306 F Street in Woodbridge\, VA. Perspective members (Fire\, EMS\, junior\, and Administrative) are asked to attend the new member meeting at 7:30 p.m. The general membership meeting starts at 8:00 p.m. Dinner is served before all company meetings. You can call station 2 at (703) 491-5173 for additional information.
URL:https://owlvfd.org/event/company-meeting-june/
CATEGORIES:Meetings,Membership Meeting
ATTACH;FMTTYPE=image/jpeg:https://owlvfd.org/wp-content/uploads/2019/02/EMS-Hero.jpg
END:VEVENT
BEGIN:VEVENT
DTSTART;TZID=America/New_York:20190503T200000
DTEND;TZID=America/New_York:20190503T210000
DTSTAMP:20260424T013537
CREATED:20190406T000351Z
LAST-MODIFIED:20190406T000648Z
UID:1202-1556913600-1556917200@owlvfd.org
SUMMARY:Company Meeting (May)
DESCRIPTION:OWL Company meetings occur the first Friday of every month at Station 2. Station 2 is located at 1306 F Street in Woodbridge\, VA. Perspective members (Fire\, EMS\, junior\, and Administrative) are asked to attend the new member meeting at 7:30 p.m. The general membership meeting starts at 8:00 p.m. Dinner is served before all company meetings. You can call station 2 at (703) 491-5173 for additional information.
URL:https://owlvfd.org/event/company-meeting-may/
LOCATION:Station 2\, 1306 F Street\, Woodbridge\, VA\, 22191\, United States
CATEGORIES:Meetings,Membership Meeting
ATTACH;FMTTYPE=image/jpeg:https://owlvfd.org/wp-content/uploads/2019/03/USflag.jpg
END:VEVENT
BEGIN:VEVENT
DTSTART;TZID=America/New_York:20190405T190000
DTEND;TZID=America/New_York:20190405T210000
DTSTAMP:20260424T013537
CREATED:20190301T235541Z
LAST-MODIFIED:20190318T010127Z
UID:1097-1554490800-1554498000@owlvfd.org
SUMMARY:Company Meeting (April)
DESCRIPTION:OWL Company meetings occur the first Friday of every month at Station 2. Station 2 is located at 1306 F Street in Woodbridge\, VA. Perspective members (Fire\, EMS\, junior\, and Administrative) are asked to attend the new member meeting at 7:30 p.m. The general membership meeting starts at 8:00 p.m. Dinner is served before all company meetings. You can call station 2 at (703) 491-5173 for additional information.
URL:https://owlvfd.org/event/company-meeting-arpril/
LOCATION:Station 2\, 1306 F Street\, Woodbridge\, VA\, 22191\, United States
CATEGORIES:Meetings,Membership Meeting
ATTACH;FMTTYPE=image/jpeg:https://owlvfd.org/wp-content/uploads/2019/02/StarOfLife.jpg
END:VEVENT
BEGIN:VEVENT
DTSTART;TZID=America/New_York:20190301T190000
DTEND;TZID=America/New_York:20190301T210000
DTSTAMP:20260424T013537
CREATED:20190212T004202Z
LAST-MODIFIED:20190212T004326Z
UID:822-1551466800-1551474000@owlvfd.org
SUMMARY:Company Meeting (March)
DESCRIPTION:OWL Company meetings occur the first Friday of every month at Station 2. Station 2 is located at 1306 F Street in Woodbridge\, VA. Perspective members (Fire\, EMS\, junior\, and Administrative) are asked to attend the new member meeting at 7:30 p.m. The general membership meeting starts at 8:00 p.m. Dinner is served before all company meetings. You can call station 2 at (703) 491-5173 for additional information.
URL:https://owlvfd.org/event/company-meeting-march/
LOCATION:Station 2\, 1306 F Street\, Woodbridge\, VA\, 22191\, United States
CATEGORIES:Meetings,Membership Meeting
ATTACH;FMTTYPE=image/jpeg:https://owlvfd.org/wp-content/uploads/2019/02/2019FeburaryMeeting.jpg
END:VEVENT
BEGIN:VEVENT
DTSTART;TZID=America/New_York:20190201T200000
DTEND;TZID=America/New_York:20190201T210000
DTSTAMP:20260424T013537
CREATED:20190114T202936Z
LAST-MODIFIED:20190202T194005Z
UID:414-1549051200-1549054800@owlvfd.org
SUMMARY:O.W.L. V.F.D. Company Meeting (February)
DESCRIPTION:OWL Company meetings occur the first Friday of every month at Station 2. Station 2 is located at 1306 F Street in Woodbridge\, VA. Perspective members (Fire\, EMS\, junior\, and Administrative) are asked to attend the new member meeting at 7:30 p.m. The general membership meeting starts at 8:00 p.m. Dinner is served before all company meetings. You can call station 2 at (703) 491-5173 for additional information. \n 
URL:https://owlvfd.org/event/o-w-l-v-f-d-company-meeting-2/
LOCATION:Station 2\, 1306 F Street\, Woodbridge\, VA\, 22191\, United States
CATEGORIES:Meetings,Membership Meeting
ATTACH;FMTTYPE=image/jpeg:https://owlvfd.org/wp-content/uploads/2019/02/2019FeburaryMeeting-5.jpg
END:VEVENT
END:VCALENDAR