BEGIN:VCALENDAR
VERSION:2.0
PRODID:-//O.W.L. Volunteer Fire Department - ECPv6.15.18//NONSGML v1.0//EN
CALSCALE:GREGORIAN
METHOD:PUBLISH
X-ORIGINAL-URL:https://owlvfd.org
X-WR-CALDESC:Events for O.W.L. Volunteer Fire Department
REFRESH-INTERVAL;VALUE=DURATION:PT1H
X-Robots-Tag:noindex
X-PUBLISHED-TTL:PT1H
BEGIN:VTIMEZONE
TZID:America/New_York
BEGIN:DAYLIGHT
TZOFFSETFROM:-0500
TZOFFSETTO:-0400
TZNAME:EDT
DTSTART:20180311T070000
END:DAYLIGHT
BEGIN:STANDARD
TZOFFSETFROM:-0400
TZOFFSETTO:-0500
TZNAME:EST
DTSTART:20181104T060000
END:STANDARD
BEGIN:DAYLIGHT
TZOFFSETFROM:-0500
TZOFFSETTO:-0400
TZNAME:EDT
DTSTART:20190310T070000
END:DAYLIGHT
BEGIN:STANDARD
TZOFFSETFROM:-0400
TZOFFSETTO:-0500
TZNAME:EST
DTSTART:20191103T060000
END:STANDARD
BEGIN:DAYLIGHT
TZOFFSETFROM:-0500
TZOFFSETTO:-0400
TZNAME:EDT
DTSTART:20200308T070000
END:DAYLIGHT
BEGIN:STANDARD
TZOFFSETFROM:-0400
TZOFFSETTO:-0500
TZNAME:EST
DTSTART:20201101T060000
END:STANDARD
END:VTIMEZONE
BEGIN:VEVENT
DTSTART;TZID=America/New_York:20190220T160000
DTEND;TZID=America/New_York:20190220T220000
DTSTAMP:20260424T030415
CREATED:20190220T200412Z
LAST-MODIFIED:20190301T234637Z
UID:942-1550678400-1550700000@owlvfd.org
SUMMARY:Bingo
DESCRIPTION:Come play BINGO!\nDoors open up at 4 p.m. and the first game starts calling at 7:15 p.m. Most games have a $100 prize and the jackpot game has a prize of $1000. Come and join us at 1306 F Street at the O.W.L. V.F.D. Station 2. \nOfficial Rules \n 
URL:https://owlvfd.org/event/bingo/
LOCATION:Station 2\, 1306 F Street\, Woodbridge\, VA\, 22191\, United States
CATEGORIES:Bingo
ATTACH;FMTTYPE=image/jpeg:https://owlvfd.org/wp-content/uploads/2019/02/bingo.jpg
END:VEVENT
END:VCALENDAR